BEGIN:VCALENDAR
VERSION:2.0
PRODID:-//Bitches Set Traps - ECPv6.15.20//NONSGML v1.0//EN
CALSCALE:GREGORIAN
METHOD:PUBLISH
X-ORIGINAL-URL:https://www.bitchessettraps.com
X-WR-CALDESC:Events for Bitches Set Traps
REFRESH-INTERVAL;VALUE=DURATION:PT1H
X-Robots-Tag:noindex
X-PUBLISHED-TTL:PT1H
BEGIN:VTIMEZONE
TZID:America/Chicago
BEGIN:DAYLIGHT
TZOFFSETFROM:-0600
TZOFFSETTO:-0500
TZNAME:CDT
DTSTART:20250309T080000
END:DAYLIGHT
BEGIN:STANDARD
TZOFFSETFROM:-0500
TZOFFSETTO:-0600
TZNAME:CST
DTSTART:20251102T070000
END:STANDARD
BEGIN:DAYLIGHT
TZOFFSETFROM:-0600
TZOFFSETTO:-0500
TZNAME:CDT
DTSTART:20260308T080000
END:DAYLIGHT
BEGIN:STANDARD
TZOFFSETFROM:-0500
TZOFFSETTO:-0600
TZNAME:CST
DTSTART:20261101T070000
END:STANDARD
BEGIN:DAYLIGHT
TZOFFSETFROM:-0600
TZOFFSETTO:-0500
TZNAME:CDT
DTSTART:20270314T080000
END:DAYLIGHT
BEGIN:STANDARD
TZOFFSETFROM:-0500
TZOFFSETTO:-0600
TZNAME:CST
DTSTART:20271107T070000
END:STANDARD
END:VTIMEZONE
BEGIN:VEVENT
DTSTART;VALUE=DATE:20260428
DTEND;VALUE=DATE:20260429
DTSTAMP:20260423T174202
CREATED:20260401T212818Z
LAST-MODIFIED:20260410T044611Z
UID:486-1777334400-1777420799@www.bitchessettraps.com
SUMMARY:Bitches Set Traps @ Joan of Bark Presents w/ EsinGunduz+StefanGonzalez\, DevinGray+AgaZet\, & Nova Ensemble
DESCRIPTION:
URL:https://www.bitchessettraps.com/event/bitches-set-traps-joan-of-bark-presents-w-devingrayagazet-and-nova-ensemble/
LOCATION:Denton\, TX @ Rubber Gloves
END:VEVENT
END:VCALENDAR