BEGIN:VCALENDAR
VERSION:2.0
PRODID:-//Bitches Set Traps - ECPv6.15.20//NONSGML v1.0//EN
CALSCALE:GREGORIAN
METHOD:PUBLISH
X-ORIGINAL-URL:https://www.bitchessettraps.com
X-WR-CALDESC:Events for Bitches Set Traps
REFRESH-INTERVAL;VALUE=DURATION:PT1H
X-Robots-Tag:noindex
X-PUBLISHED-TTL:PT1H
BEGIN:VTIMEZONE
TZID:America/Chicago
BEGIN:DAYLIGHT
TZOFFSETFROM:-0600
TZOFFSETTO:-0500
TZNAME:CDT
DTSTART:20180311T080000
END:DAYLIGHT
BEGIN:STANDARD
TZOFFSETFROM:-0500
TZOFFSETTO:-0600
TZNAME:CST
DTSTART:20181104T070000
END:STANDARD
BEGIN:DAYLIGHT
TZOFFSETFROM:-0600
TZOFFSETTO:-0500
TZNAME:CDT
DTSTART:20190310T080000
END:DAYLIGHT
BEGIN:STANDARD
TZOFFSETFROM:-0500
TZOFFSETTO:-0600
TZNAME:CST
DTSTART:20191103T070000
END:STANDARD
BEGIN:DAYLIGHT
TZOFFSETFROM:-0600
TZOFFSETTO:-0500
TZNAME:CDT
DTSTART:20200308T080000
END:DAYLIGHT
BEGIN:STANDARD
TZOFFSETFROM:-0500
TZOFFSETTO:-0600
TZNAME:CST
DTSTART:20201101T070000
END:STANDARD
BEGIN:DAYLIGHT
TZOFFSETFROM:-0600
TZOFFSETTO:-0500
TZNAME:CDT
DTSTART:20210314T080000
END:DAYLIGHT
BEGIN:STANDARD
TZOFFSETFROM:-0500
TZOFFSETTO:-0600
TZNAME:CST
DTSTART:20211107T070000
END:STANDARD
BEGIN:DAYLIGHT
TZOFFSETFROM:-0600
TZOFFSETTO:-0500
TZNAME:CDT
DTSTART:20220313T080000
END:DAYLIGHT
BEGIN:STANDARD
TZOFFSETFROM:-0500
TZOFFSETTO:-0600
TZNAME:CST
DTSTART:20221106T070000
END:STANDARD
BEGIN:DAYLIGHT
TZOFFSETFROM:-0600
TZOFFSETTO:-0500
TZNAME:CDT
DTSTART:20230312T080000
END:DAYLIGHT
BEGIN:STANDARD
TZOFFSETFROM:-0500
TZOFFSETTO:-0600
TZNAME:CST
DTSTART:20231105T070000
END:STANDARD
END:VTIMEZONE
BEGIN:VEVENT
DTSTART;VALUE=DATE:20220609
DTEND;VALUE=DATE:20220610
DTSTAMP:20260423T145643
CREATED:20220514T115238Z
LAST-MODIFIED:20230616T044502Z
UID:317-1654732800-1654819199@www.bitchessettraps.com
SUMMARY:Bitches Set Traps w/ Adam Goodwin\, Tangential Meandering + Blendways\, & Murmur Collective
DESCRIPTION:
URL:https://www.bitchessettraps.com/event/bitches-set-traps-w-adam-goodwin-tangential-meandering-blendways-murmur-collective/
LOCATION:Denton\, TX @ Killer’s Tacos
END:VEVENT
BEGIN:VEVENT
DTSTART;VALUE=DATE:20220429
DTEND;VALUE=DATE:20220430
DTSTAMP:20260423T145643
CREATED:20220402T055134Z
LAST-MODIFIED:20230616T044509Z
UID:312-1651190400-1651276799@www.bitchessettraps.com
SUMMARY:Bitches Set Traps w/ Wendey Eisenberg
DESCRIPTION:
URL:https://www.bitchessettraps.com/event/bitches-set-traps-w-wendey-eisenberg/
LOCATION:Shreveport\, LA @ minicine?
END:VEVENT
BEGIN:VEVENT
DTSTART;VALUE=DATE:20220401
DTEND;VALUE=DATE:20220402
DTSTAMP:20260423T145643
CREATED:20220128T115435Z
LAST-MODIFIED:20230616T044512Z
UID:301-1648771200-1648857599@www.bitchessettraps.com
SUMMARY:Bitches Set Traps Chamber Music Recital
DESCRIPTION:
URL:https://www.bitchessettraps.com/event/bitches-set-traps-valentines-day-chamber-music-recital/
LOCATION:Denton\, TX @ UNT College of Music
END:VEVENT
BEGIN:VEVENT
DTSTART;VALUE=DATE:20220321
DTEND;VALUE=DATE:20220322
DTSTAMP:20260423T145643
CREATED:20220210T235246Z
LAST-MODIFIED:20230616T044517Z
UID:304-1647820800-1647907199@www.bitchessettraps.com
SUMMARY:Bitches Set Traps w/ Factual Brains & Improvised Magic Ensemble
DESCRIPTION:
URL:https://www.bitchessettraps.com/event/bitches-set-traps-w-factual-brains-improvised-magic-ensemble/
LOCATION:Denton\, TX @ Killer’s Tacos
END:VEVENT
BEGIN:VEVENT
DTSTART;VALUE=DATE:20211212
DTEND;VALUE=DATE:20211213
DTSTAMP:20260423T145643
CREATED:20211122T100912Z
LAST-MODIFIED:20230616T044520Z
UID:298-1639267200-1639353599@www.bitchessettraps.com
SUMMARY:Bitches Set Traps w/ LisaCameron/SandyEwen\, Monte Espina\, & Blendways
DESCRIPTION:
URL:https://www.bitchessettraps.com/event/bitches-set-traps-w-lisacameron-sandyewen-monte-espina-blendways/
LOCATION:Denton\, TX @ Rubber Gloves
END:VEVENT
BEGIN:VEVENT
DTSTART;VALUE=DATE:20211108
DTEND;VALUE=DATE:20211109
DTSTAMP:20260423T145643
CREATED:20211024T223152Z
LAST-MODIFIED:20230616T044524Z
UID:293-1636329600-1636415999@www.bitchessettraps.com
SUMMARY:Bitches Set Traps @ Music Now
DESCRIPTION:
URL:https://www.bitchessettraps.com/event/bitches-set-traps-music-now-2/
LOCATION:Denton\, TX @ UNT College of Music
END:VEVENT
BEGIN:VEVENT
DTSTART;VALUE=DATE:20210816
DTEND;VALUE=DATE:20210817
DTSTAMP:20260423T145643
CREATED:20210724T044008Z
LAST-MODIFIED:20230616T044529Z
UID:286-1629072000-1629158399@www.bitchessettraps.com
SUMMARY:Bitches Set Traps @ New Music Gathering 2021
DESCRIPTION:
URL:https://www.bitchessettraps.com/event/bitches-set-traps-new-music-gathering-2021/
LOCATION:The Internet
END:VEVENT
BEGIN:VEVENT
DTSTART;VALUE=DATE:20210223
DTEND;VALUE=DATE:20210224
DTSTAMP:20260423T145643
CREATED:20210223T061814Z
LAST-MODIFIED:20230616T044533Z
UID:276-1614038400-1614124799@www.bitchessettraps.com
SUMMARY:Bitches Set Traps @ SOUNDBOX 4: A Zoom of One's Own Festival
DESCRIPTION:
URL:https://www.bitchessettraps.com/event/soundbox-4-a-zoom-of-ones-own-festival/
LOCATION:The Internet
END:VEVENT
BEGIN:VEVENT
DTSTART;VALUE=DATE:20201106
DTEND;VALUE=DATE:20201108
DTSTAMP:20260423T145643
CREATED:20201030T090626Z
LAST-MODIFIED:20230616T044537Z
UID:266-1604620800-1604793599@www.bitchessettraps.com
SUMMARY:Bitches Set Traps @ CEMI: Sonic Murals
DESCRIPTION:
URL:https://www.bitchessettraps.com/event/bitches-set-traps-cemi-sonic-murals/
LOCATION:The Internet
END:VEVENT
BEGIN:VEVENT
DTSTART;VALUE=DATE:20201017
DTEND;VALUE=DATE:20201018
DTSTAMP:20260423T145643
CREATED:20200920T053905Z
LAST-MODIFIED:20230616T044540Z
UID:253-1602892800-1602979199@www.bitchessettraps.com
SUMMARY:Bitches Set Traps @ Sounds Modern: Mark Bradford Concert
DESCRIPTION:
URL:https://www.bitchessettraps.com/event/bitches-set-traps-sounds-modern-mark-bradford-concert/
LOCATION:Forth Worth\, TX @ The Modern Art Museum of Fort Worth
END:VEVENT
BEGIN:VEVENT
DTSTART;VALUE=DATE:20200807
DTEND;VALUE=DATE:20200809
DTSTAMP:20260423T145643
CREATED:20201008T205132Z
LAST-MODIFIED:20230616T044613Z
UID:256-1596758400-1596931199@www.bitchessettraps.com
SUMMARY:Bitches Set Traps @ Improv Fest 2020
DESCRIPTION:
URL:https://www.bitchessettraps.com/event/bitches-set-traps-improv-fest-2020/
LOCATION:The Internet
END:VEVENT
BEGIN:VEVENT
DTSTART;VALUE=DATE:20200123
DTEND;VALUE=DATE:20200124
DTSTAMP:20260423T145643
CREATED:20200319T112451Z
LAST-MODIFIED:20230616T044618Z
UID:58-1579737600-1579823999@www.bitchessettraps.com
SUMMARY:Bitches Set Traps w/ Kendra Amelie\, StefanGonzalez/PatrickMichot\, and Mike Soto
DESCRIPTION:
URL:https://www.bitchessettraps.com/event/bitches-set-traps-w-kendra-amelie-stefangonzalez-patrickmichot-and-mike-soto/
LOCATION:Dallas\, TX @ Tradewinds Social Club
END:VEVENT
BEGIN:VEVENT
DTSTART;VALUE=DATE:20191202
DTEND;VALUE=DATE:20191203
DTSTAMP:20260423T145643
CREATED:20200319T112552Z
LAST-MODIFIED:20230616T044622Z
UID:61-1575244800-1575331199@www.bitchessettraps.com
SUMMARY:Bitches Set Traps @ Nameless Sound w/ Emilý Æyer
DESCRIPTION:
URL:https://www.bitchessettraps.com/event/bitches-set-traps-nameless-sound-w-emily-aeyer/
LOCATION:Houston\, TX @ Lawndale Art Center
END:VEVENT
BEGIN:VEVENT
DTSTART;VALUE=DATE:20191201
DTEND;VALUE=DATE:20191202
DTSTAMP:20260423T145643
CREATED:20200319T112632Z
LAST-MODIFIED:20230616T044626Z
UID:64-1575158400-1575244799@www.bitchessettraps.com
SUMMARY:Bitches Set Traps w/ Heavy Stars\, and Little Mazarn
DESCRIPTION:
URL:https://www.bitchessettraps.com/event/bitches-set-traps-w-heavy-stars-and-little-mazarn/
LOCATION:Austin\, TX @ Wright Brothers Brew and Brew
END:VEVENT
BEGIN:VEVENT
DTSTART;VALUE=DATE:20191112
DTEND;VALUE=DATE:20191113
DTSTAMP:20260423T145643
CREATED:20200319T093446Z
LAST-MODIFIED:20230616T044629Z
UID:27-1573516800-1573603199@www.bitchessettraps.com
SUMMARY:Bitches Set Traps
DESCRIPTION:
URL:https://www.bitchessettraps.com/event/bitches-set-traps-unt-cvad-the-cave/
LOCATION:Denton\, TX @ UNT CVAD: The Cave\, Denton\, TX
END:VEVENT
BEGIN:VEVENT
DTSTART;VALUE=DATE:20191103
DTEND;VALUE=DATE:20191104
DTSTAMP:20260423T145643
CREATED:20200319T093820Z
LAST-MODIFIED:20230616T044633Z
UID:30-1572739200-1572825599@www.bitchessettraps.com
SUMMARY:Bitches Set Traps w/ Monte Espina\, and Blendways
DESCRIPTION:
URL:https://www.bitchessettraps.com/event/bitches-set-traps-w-monte-espina-and-blendways/
LOCATION:Denton\, TX @ BackYard on Bell\, Denton\, TX
END:VEVENT
BEGIN:VEVENT
DTSTART;VALUE=DATE:20191024
DTEND;VALUE=DATE:20191025
DTSTAMP:20260423T145643
CREATED:20200319T111819Z
LAST-MODIFIED:20230616T044636Z
UID:37-1571875200-1571961599@www.bitchessettraps.com
SUMMARY:Bitches Set Traps
DESCRIPTION:
URL:https://www.bitchessettraps.com/event/bitches-set-traps/
LOCATION:Denton\, TX @ UNT on the Square
END:VEVENT
BEGIN:VEVENT
DTSTART;VALUE=DATE:20191009
DTEND;VALUE=DATE:20191010
DTSTAMP:20260423T145643
CREATED:20200319T111923Z
LAST-MODIFIED:20230616T044640Z
UID:40-1570579200-1570665599@www.bitchessettraps.com
SUMMARY:Bitches Set Traps w/ Matthew Frerck and Kyle Motl
DESCRIPTION:
URL:https://www.bitchessettraps.com/event/bitches-set-traps-w-matthew-frerck-and-kyle-motl/
LOCATION:Denton\, TX @ Rubber Gloves
END:VEVENT
BEGIN:VEVENT
DTSTART;VALUE=DATE:20190927
DTEND;VALUE=DATE:20190928
DTSTAMP:20260423T145643
CREATED:20200319T112003Z
LAST-MODIFIED:20230616T044644Z
UID:43-1569542400-1569628799@www.bitchessettraps.com
SUMMARY:Bitches Set Traps\, w/ Ravish Momin & Aaron Gonzalez\, Improvised Magic Ensemble\, and Freak Establishment
DESCRIPTION:
URL:https://www.bitchessettraps.com/event/bitches-set-traps-w-ravish-momin-aaron-gonzalez-improvised-magic-ensemble-and-freak-establishment/
LOCATION:Denton\, TX @ BackYard on Bell\, Denton\, TX
END:VEVENT
BEGIN:VEVENT
DTSTART;VALUE=DATE:20190816
DTEND;VALUE=DATE:20190817
DTSTAMP:20260423T145643
CREATED:20200319T112043Z
LAST-MODIFIED:20230616T044647Z
UID:45-1565913600-1565999999@www.bitchessettraps.com
SUMMARY:Bitches Set Traps @ Further Sounds\, w/ BillNace/SteveBaczkowski\, and TomCarter/AaronGonzález/StefanGonzález
DESCRIPTION:
URL:https://www.bitchessettraps.com/event/bitches-set-traps-further-sounds-w-billnace-stevebaczkowski-and-tomcarter-aarongonzalez-stefangonzalez/
LOCATION:Dallas\, TX @ The Wild Detectives
END:VEVENT
BEGIN:VEVENT
DTSTART;VALUE=DATE:20190707
DTEND;VALUE=DATE:20190708
DTSTAMP:20260423T145643
CREATED:20200319T112150Z
LAST-MODIFIED:20230616T044651Z
UID:48-1562457600-1562543999@www.bitchessettraps.com
SUMMARY:Bitches Set Traps @ New Media Art and Sound Summit – Day 3
DESCRIPTION:
URL:https://www.bitchessettraps.com/event/bitches-set-traps-new-media-art-and-sound-summit-day-3/
LOCATION:Austin\, TX @ Ground Floor Theatre
END:VEVENT
BEGIN:VEVENT
DTSTART;VALUE=DATE:20190624
DTEND;VALUE=DATE:20190625
DTSTAMP:20260423T145643
CREATED:20200319T112249Z
LAST-MODIFIED:20230616T044654Z
UID:51-1561334400-1561420799@www.bitchessettraps.com
SUMMARY:Bitches Set Traps @ Outward Bound Mixtape Sessions w/ Voicemail\, Buzzed By Bats\, & Homer Street
DESCRIPTION:
URL:https://www.bitchessettraps.com/event/bitches-set-traps-outward-bound-mixtape-sessions-w-voicemail-buzzed-by-bats-homer-street/
LOCATION:Dallas\, TX @ RBC
END:VEVENT
BEGIN:VEVENT
DTSTART;VALUE=DATE:20190330
DTEND;VALUE=DATE:20190331
DTSTAMP:20260423T145643
CREATED:20200319T112403Z
LAST-MODIFIED:20230616T044657Z
UID:55-1553904000-1553990399@www.bitchessettraps.com
SUMMARY:Bitches Set Traps @ Midway Craft House’s 3 Year Anniversary\, w/ Aaron Gonzalez + Sarah Ruth = Love4Ever\, Daniel Ryan\, eric\, and DJ Candy
DESCRIPTION:
URL:https://www.bitchessettraps.com/event/bitches-set-traps-midway-craft-houses-3-year-anniversary-w-aaron-gonzalez-sarah-ruth-love4ever-daniel-ryan-eric-and-dj-candy/
LOCATION:Denton\, TX @ Midway Craft House
END:VEVENT
BEGIN:VEVENT
DTSTART;VALUE=DATE:20190119
DTEND;VALUE=DATE:20190120
DTSTAMP:20260423T145643
CREATED:20200319T112907Z
LAST-MODIFIED:20230616T044702Z
UID:67-1547856000-1547942399@www.bitchessettraps.com
SUMMARY:Bitches Set Traps @ Sounds Modern: Broken Dolls?
DESCRIPTION:
URL:https://www.bitchessettraps.com/event/bitches-set-traps-sounds-modern-broken-dolls/
LOCATION:Forth Worth\, TX @ The Modern Art Museum of Fort Worth
END:VEVENT
END:VCALENDAR